BEGIN:VCALENDAR
VERSION:2.0
PRODID:-//THRIVE Bedford | Lewisboro | Pound Ridge - ECPv6.15.15//NONSGML v1.0//EN
CALSCALE:GREGORIAN
METHOD:PUBLISH
X-WR-CALNAME:THRIVE Bedford | Lewisboro | Pound Ridge
X-ORIGINAL-URL:https://www.thrive-alliance.net
X-WR-CALDESC:Events for THRIVE Bedford | Lewisboro | Pound Ridge
REFRESH-INTERVAL;VALUE=DURATION:PT1H
X-Robots-Tag:noindex
X-PUBLISHED-TTL:PT1H
BEGIN:VTIMEZONE
TZID:America/New_York
BEGIN:DAYLIGHT
TZOFFSETFROM:-0500
TZOFFSETTO:-0400
TZNAME:EDT
DTSTART:20190310T070000
END:DAYLIGHT
BEGIN:STANDARD
TZOFFSETFROM:-0400
TZOFFSETTO:-0500
TZNAME:EST
DTSTART:20191103T060000
END:STANDARD
BEGIN:DAYLIGHT
TZOFFSETFROM:-0500
TZOFFSETTO:-0400
TZNAME:EDT
DTSTART:20200308T070000
END:DAYLIGHT
BEGIN:STANDARD
TZOFFSETFROM:-0400
TZOFFSETTO:-0500
TZNAME:EST
DTSTART:20201101T060000
END:STANDARD
BEGIN:DAYLIGHT
TZOFFSETFROM:-0500
TZOFFSETTO:-0400
TZNAME:EDT
DTSTART:20210314T070000
END:DAYLIGHT
BEGIN:STANDARD
TZOFFSETFROM:-0400
TZOFFSETTO:-0500
TZNAME:EST
DTSTART:20211107T060000
END:STANDARD
END:VTIMEZONE
BEGIN:VEVENT
DTSTART;TZID=America/New_York:20201027T190000
DTEND;TZID=America/New_York:20201027T203000
DTSTAMP:20260420T053819
CREATED:20210221T193420Z
LAST-MODIFIED:20210221T193420Z
UID:188-1603825200-1603830600@www.thrive-alliance.net
SUMMARY:Vaping\, Marijuana\, & Alcohol: What Every Parent Needs to Know
DESCRIPTION:Thank you to the following presenters and moderators for participating in this event: \n\nFrank Bartolomeo\, Ph.D.\, LCSW\, Director of Adolescent Services at Silver Hill Hospital\nRocco Marotta\, M.D.\, Ph.D.\, Service Chief for the Adult Transitional Living Program at Silver Hill Hospital\nElizabeth Ortiz-Schwartz\, M.D.\, DFAPA\, Service Chief for the Adolescent Transitional Living Program at Silver Hill Hospital\nAngela Alvarado\, LMSW\, Student Assistance Counselor at Fox Lane High School\nTamara Tribble\, LMSW\, Student Assistance Counselor at Fox Lane Middle School\n\nPlease see additional resources below: \n\nWhat Parents Need to Know About Vaping – Partnership to End Addiction (drugfree.org)\nQuick Facts on the Risks of E-cigarettes for Kids\, Teens\, and Young Adults | CDC\nParent Resources | SAMHSA\nParents: Facts on Teen Drug Use | NIDA for Teens (drugabuse.gov)\n\nYou may view a video recording of this event by clicking here.
URL:https://www.thrive-alliance.net/event/vaping-marijuana-alcohol-what-every-parent-needs-to-know/
END:VEVENT
BEGIN:VEVENT
DTSTART;TZID=America/New_York:20201020T190000
DTEND;TZID=America/New_York:20201020T200000
DTSTAMP:20260420T053819
CREATED:20201021T112657Z
LAST-MODIFIED:20210204T162817Z
UID:107-1603220400-1603224000@www.thrive-alliance.net
SUMMARY:I Am One and I Make One Choice for Health: A Data-Informed\, Youth-Driven Prevention Message for Parent
DESCRIPTION:Please see Tip Jar below for some important takeaways from this event. You may also view a video recording by clicking here.
URL:https://www.thrive-alliance.net/event/i-am-one-and-i-make-one-choice-for-health/
LOCATION:Virtual Meeting\, United States
END:VEVENT
BEGIN:VEVENT
DTSTART;TZID=America/New_York:20200923T190000
DTEND;TZID=America/New_York:20200923T203000
DTSTAMP:20260420T053819
CREATED:20210221T190737Z
LAST-MODIFIED:20210221T190953Z
UID:185-1600887600-1600893000@www.thrive-alliance.net
SUMMARY:Helping Kids Today Become Successful Young Adults Tomorrow
DESCRIPTION:Please see Tip Jar below for some important takeaways from this event. You may also view a video recording by clicking here.
URL:https://www.thrive-alliance.net/event/helping-kids-today-become-successful-young-adults-tomorrow/
END:VEVENT
END:VCALENDAR