BEGIN:VCALENDAR
VERSION:2.0
PRODID:-//THRIVE Bedford | Lewisboro | Pound Ridge - ECPv6.15.15//NONSGML v1.0//EN
CALSCALE:GREGORIAN
METHOD:PUBLISH
X-ORIGINAL-URL:https://www.thrive-alliance.net
X-WR-CALDESC:Events for THRIVE Bedford | Lewisboro | Pound Ridge
REFRESH-INTERVAL;VALUE=DURATION:PT1H
X-Robots-Tag:noindex
X-PUBLISHED-TTL:PT1H
BEGIN:VTIMEZONE
TZID:America/New_York
BEGIN:DAYLIGHT
TZOFFSETFROM:-0500
TZOFFSETTO:-0400
TZNAME:EDT
DTSTART:20230312T070000
END:DAYLIGHT
BEGIN:STANDARD
TZOFFSETFROM:-0400
TZOFFSETTO:-0500
TZNAME:EST
DTSTART:20231105T060000
END:STANDARD
BEGIN:DAYLIGHT
TZOFFSETFROM:-0500
TZOFFSETTO:-0400
TZNAME:EDT
DTSTART:20240310T070000
END:DAYLIGHT
BEGIN:STANDARD
TZOFFSETFROM:-0400
TZOFFSETTO:-0500
TZNAME:EST
DTSTART:20241103T060000
END:STANDARD
BEGIN:DAYLIGHT
TZOFFSETFROM:-0500
TZOFFSETTO:-0400
TZNAME:EDT
DTSTART:20250309T070000
END:DAYLIGHT
BEGIN:STANDARD
TZOFFSETFROM:-0400
TZOFFSETTO:-0500
TZNAME:EST
DTSTART:20251102T060000
END:STANDARD
END:VTIMEZONE
BEGIN:VEVENT
DTSTART;TZID=America/New_York:20241204T183000
DTEND;TZID=America/New_York:20241204T193000
DTSTAMP:20260420T052503
CREATED:20240925T180200Z
LAST-MODIFIED:20240925T180353Z
UID:471-1733337000-1733340600@www.thrive-alliance.net
SUMMARY:December 2024 THRIVE Meeting
DESCRIPTION:THRIVE Bedford | Lewisboro | Pound Ridge welcomes you to attend our Dec. 4\, 2024\, 6:30 p.m. Eastern monthly meeting using the following Zoom login. (If clickable link is not visible\, click on the event name to be taken to a page with a live link.) Join Zoom Meeting link: https://us02web.zoom.us/j/82108277833. Meeting ID: 821 0827 7833. One tap mobile: +19292056099\,\,82108277833# US (New York); +16469313860\,\,82108277833# US; Dial by your location: • +1 929 205 6099 US (New York). Find your local number: https://us02web.zoom.us/u/kbFuhn9VhB
URL:https://www.thrive-alliance.net/event/december-4-2024-thrive-meeting/
LOCATION:Virtual Meeting\, United States
CATEGORIES:Monthly THRIVE Meetings
ORGANIZER;CN="THRIVE Bedford | Lewisboro | Pound Ridge":MAILTO:thrive.steering.committee@gmail.com
END:VEVENT
END:VCALENDAR